BEGIN:VCALENDAR
VERSION:2.0
PRODID:-//East Side Restaurant – New Britain, CT - ECPv6.13.2.1//NONSGML v1.0//EN
CALSCALE:GREGORIAN
METHOD:PUBLISH
X-WR-CALNAME:East Side Restaurant – New Britain, CT
X-ORIGINAL-URL:https://eastsiderestaurant.com
X-WR-CALDESC:Events for East Side Restaurant – New Britain, CT
REFRESH-INTERVAL;VALUE=DURATION:PT1H
X-Robots-Tag:noindex
X-PUBLISHED-TTL:PT1H
BEGIN:VTIMEZONE
TZID:America/New_York
BEGIN:DAYLIGHT
TZOFFSETFROM:-0500
TZOFFSETTO:-0400
TZNAME:EDT
DTSTART:20260308T070000
END:DAYLIGHT
BEGIN:STANDARD
TZOFFSETFROM:-0400
TZOFFSETTO:-0500
TZNAME:EST
DTSTART:20261101T060000
END:STANDARD
END:VTIMEZONE
BEGIN:VEVENT
DTSTART;TZID=America/New_York:20260510T120000
DTEND;TZID=America/New_York:20260510T190000
DTSTAMP:20260420T022148
CREATED:20260418T220055Z
LAST-MODIFIED:20260418T220205Z
UID:2669-1778414400-1778439600@eastsiderestaurant.com
SUMMARY:Mothers Day at East Side
DESCRIPTION:Join us for Mother’s Day at East Side Restaurant on Sunday\, May 10th from 12:00–7:00 PM. \nCelebrate Mom with a special $35 three-course prix fixe menu featuring classic favorites\, live music\, and the warm hospitality we’ve been known for since 1934. \n🥂 First Course (Choice of):• Soup of the Day• Tossed Salad \n🍽 Entrée (Choice of):• Baked Stuffed Sole• Chicken Schnitzel• Roast Turkey Dinner• Jäger Schnitzel• BurgermeisterAll entrées served with your choice of potato & vegetable of the day \n🍰 Dessert (Choice of):• Apple Strudel• Selection of Cream Pies \nEnjoy live accordion music throughout the day:🎶 Dave the Accordion Player in the Beer Garden (1:00–5:00 PM)🎶 Walter in the Main & Small Dining Rooms (12:30–6:30 PM) \nOur regular menu will also be available. \nReservations are strongly recommended for this special event. \nReserve your table today for authentic German cuisine\, traditional bier\, and a memorable Mother’s Day experience
URL:https://eastsiderestaurant.com/event/mothers-day-at-east-side/
END:VEVENT
END:VCALENDAR